Workbook

Sheet 石川県野球協会会長旗
A1: 石川県軟式野球連盟会長旗争奪 第２７回 中学校野球選手権大会
A2: 参 加 申 込 書 | Z2: 記入上の注意
A4: 郡市名 | F4: チーム名 | G4: フリガナ | Z4: ← 郡市名。（例）白山市
Z5: ← ○○市立○○中学校
A6: チーム所在地 | P6: チーム責任者 | Z6: ← 所在地は、郡市名から
A8: 出 場 選 手 名 簿
A10: № | B10: 背番号 | D10: 守備 位置 | F10: 氏 名 | O10: フ リ ガ ナ | X10: 学年
A11: 1 | B11: 30 | D11: 監督
A12: 2 | B12: 29 | D12: コーチ
A13: 3 | B13: 28 | D13: コーチ
A14: 4 | B14: 10
A15: 5 | B15: 12
A16: 6
A17: 7
A18: 8
A19: 9
A20: 10
A21: 11
A22: 12
A23: 13
A24: 14
A25: 15
A26: 16
A27: 17
... A38: 28
A39: 29 | D39: マネージャー
A40: 30 | D40: スコアラー
A41: 31 | D41: トレーナー
A44: 標記大会に、参加申し込みを致します。
B45: 令和8年 月 日 | O45: 中学校 | Q45: 校長 | W45: ㊞
B47: 石 川 県 野 球 協 会 会 長 道 上 宗 雅 殿
A51: 投手 | B51: 0 | D51: 加賀市
A52: 捕手 | B52: 1 | D52: 小松市
A53: 内野手 | B53: 2 | D53: 青森県
A54: 外野手 | B54: 3 | D54: 岩手県
A55: － | B55: 4 | D55: 宮城県
B56: 5 | D56: 秋田県
B57: 6 | D57: 山形県
B58: 7 | D58: 福島県
B59: 8 | D59: 茨城県
...

Sheet ﾌﾟﾛｸﾞﾗﾑ用
A1: =石川県野球協会会長旗!A1 -> 石川県軟式野球連盟会長旗争奪 第２７回 中学校野球選手権大会
A2: =石川県野球協会会長旗!A2 -> 参 加 申 込 書
A4: =石川県野球協会会長旗!A4 -> 郡市名 | B4: =石川県野球協会会長旗!B4 -> 0 | F4: =石川県野球協会会長旗!F4 -> チーム名 | G4: =石川県野球協会会長旗!G4 -> フリガナ
G5: =石川県野球協会会長旗!G5 -> 0
A6: =石川県野球協会会長旗!A6 -> チーム所在地 | F6: =石川県野球協会会長旗!F6 -> 0 | P6: =石川県野球協会会長旗!P6 -> チーム責任者 | S6: =石川県野球協会会長旗!S6 -> 0
A8: =石川県野球協会会長旗!A8 -> 出 場 選 手 名 簿
A10: =石川県野球協会会長旗!A10 -> № | B10: =石川県野球協会会長旗!B10 -> 背番号 | D10: =石川県野球協会会長旗!D10 -> 守備 位置 | F10: =石川県野球協会会長旗!F10 -> 氏 名 | O10: =石川県野球協会会長旗!O10 -> フ リ ガ ナ | X10: =石川県野球協会会長旗!X10 -> 学年
A11: =石川県野球協会会長旗!A11 -> 1 | B11: =石川県野球協会会長旗!B11 -> 30 | D11: =石川県野球協会会長旗!D11 -> 監督 | F11: =石川県野球協会会長旗!F11 -> 0 | O11: =石川県野球協会会長旗!O11 -> 0
A12: =石川県野球協会会長旗!A12 -> 2 | B12: =石川県野球協会会長旗!B12 -> 29 | D12: =石川県野球協会会長旗!D12 -> コーチ | F12: =石川県野球協会会長旗!F12 -> 0 | O12: =石川県野球協会会長旗!O12 -> 0
A13: =石川県野球協会会長旗!A13 -> 3 | B13: =石川県野球協会会長旗!B13 -> 28 | D13: =石川県野球協会会長旗!D13 -> コーチ | F13: =石川県野球協会会長旗!F13 -> 0 | O13: =石川県野球協会会長旗!O13 -> 0
A14: =石川県野球協会会長旗!A14 -> 4 | B14: =石川県野球協会会長旗!B14 -> 10 | D14: =石川県野球協会会長旗!D14 -> 0 | F14: =石川県野球協会会長旗!F14 -> 0 | O14: =石川県野球協会会長旗!O14 -> 0 | X14: =石川県野球協会会長旗!X14 -> 0
A15: =石川県野球協会会長旗!A15 -> 5 | B15: =石川県野球協会会長旗!B15 -> 12 | D15: =石川県野球協会会長旗!D15 -> 0 | F15: =石川県野球協会会長旗!F15 -> 0 | O15: =石川県野球協会会長旗!O15 -> 0 | X15: =石川県野球協会会長旗!X15 -> 0
A16: =石川県野球協会会長旗!A16 -> 6 | B16: =石川県野球協会会長旗!B16 -> 0 | D16: =石川県野球協会会長旗!D16 -> 0 | F16: =石川県野球協会会長旗!F16 -> 0 | O16: =石川県野球協会会長旗!O16 -> 0 | X16: =石川県野球協会会長旗!X16 -> 0
A17: =石川県野球協会会長旗!A17 -> 7 | B17: =石川県野球協会会長旗!B17 -> 0 | D17: =石川県野球協会会長旗!D17 -> 0 | F17: =石川県野球協会会長旗!F17 -> 0 | O17: =石川県野球協会会長旗!O17 -> 0 | X17: =石川県野球協会会長旗!X17 -> 0
A18: =石川県野球協会会長旗!A18 -> 8 | B18: =石川県野球協会会長旗!B18 -> 0 | D18: =石川県野球協会会長旗!D18 -> 0 | F18: =石川県野球協会会長旗!F18 -> 0 | O18: =石川県野球協会会長旗!O18 -> 0 | X18: =石川県野球協会会長旗!X18 -> 0
A19: =石川県野球協会会長旗!A19 -> 9 | B19: =石川県野球協会会長旗!B19 -> 0 | D19: =石川県野球協会会長旗!D19 -> 0 | F19: =石川県野球協会会長旗!F19 -> 0 | O19: =石川県野球協会会長旗!O19 -> 0 | X19: =石川県野球協会会長旗!X19 -> 0
A20: =石川県野球協会会長旗!A20 -> 10 | B20: =石川県野球協会会長旗!B20 -> 0 | D20: =石川県野球協会会長旗!D20 -> 0 | F20: =石川県野球協会会長旗!F20 -> 0 | O20: =石川県野球協会会長旗!O20 -> 0 | X20: =石川県野球協会会長旗!X20 -> 0
A21: =石川県野球協会会長旗!A21 -> 11 | B21: =石川県野球協会会長旗!B21 -> 0 | D21: =石川県野球協会会長旗!D21 -> 0 | F21: =石川県野球協会会長旗!F21 -> 0 | O21: =石川県野球協会会長旗!O21 -> 0 | X21: =石川県野球協会会長旗!X21 -> 0
A22: =石川県野球協会会長旗!A22 -> 12 | B22: =石川県野球協会会長旗!B22 -> 0 | D22: =石川県野球協会会長旗!D22 -> 0 | F22: =石川県野球協会会長旗!F22 -> 0 | O22: =石川県野球協会会長旗!O22 -> 0 | X22: =石川県野球協会会長旗!X22 -> 0
A23: =石川県野球協会会長旗!A23 -> 13 | B23: =石川県野球協会会長旗!B23 -> 0 | D23: =石川県野球協会会長旗!D23 -> 0 | F23: =石川県野球協会会長旗!F23 -> 0 | O23: =石川県野球協会会長旗!O23 -> 0 | X23: =石川県野球協会会長旗!X23 -> 0
A24: =石川県野球協会会長旗!A24 -> 14 | B24: =石川県野球協会会長旗!B24 -> 0 | D24: =石川県野球協会会長旗!D24 -> 0 | F24: =石川県野球協会会長旗!F24 -> 0 | O24: =石川県野球協会会長旗!O24 -> 0 | X24: =石川県野球協会会長旗!X24 -> 0
A25: =石川県野球協会会長旗!A25 -> 15 | B25: =石川県野球協会会長旗!B25 -> 0 | D25: =石川県野球協会会長旗!D25 -> 0 | F25: =石川県野球協会会長旗!F25 -> 0 | O25: =石川県野球協会会長旗!O25 -> 0 | X25: =石川県野球協会会長旗!X25 -> 0
... A32: =石川県野球協会会長旗!A32 -> 22 | B32: =石川県野球協会会長旗!B32 -> 0 | D32: =石川県野球協会会長旗!D32 -> 0 | F32: =石川県野球協会会長旗!F32 -> 0 | O32: =石川県野球協会会長旗!O32 -> 0 | X32: =石川県野球協会会長旗!X32 -> 0
A33: 23 | B33: =石川県野球協会会長旗!B33 -> 0 | D33: =石川県野球協会会長旗!D33 -> 0 | F33: =石川県野球協会会長旗!F41 -> 0 | O33: =石川県野球協会会長旗!O41 -> 0 | X33: =石川県野球協会会長旗!X41 -> 0
A34: =石川県野球協会会長旗!A34 -> 24 | B34: =石川県野球協会会長旗!B34 -> 0 | D34: =石川県野球協会会長旗!D34 -> 0 | F34: =石川県野球協会会長旗!F34 -> 0 | O34: =石川県野球協会会長旗!O34 -> 0 | X34: =石川県野球協会会長旗!X34 -> 0
A35: =石川県野球協会会長旗!A35 -> 25 | B35: =石川県野球協会会長旗!B35 -> 0 | D35: =石川県野球協会会長旗!D35 -> 0 | F35: =石川県野球協会会長旗!F35 -> 0 | O35: =石川県野球協会会長旗!O35 -> 0 | X35: =石川県野球協会会長旗!X35 -> 0
A36: =石川県野球協会会長旗!A36 -> 26 | B36: =石川県野球協会会長旗!B36 -> 0 | D36: =石川県野球協会会長旗!D36 -> 0 | F36: =石川県野球協会会長旗!F36 -> 0 | O36: =石川県野球協会会長旗!O36 -> 0 | X36: =石川県野球協会会長旗!X36 -> 0
A37: 27 | B37: =石川県野球協会会長旗!B37 -> 0 | D37: =石川県野球協会会長旗!D37 -> 0 | F37: =石川県野球協会会長旗!F37 -> 0 | O37: =石川県野球協会会長旗!O37 -> 0 | X37: =石川県野球協会会長旗!X37 -> 0
A38: =石川県野球協会会長旗!A38 -> 28 | B38: =石川県野球協会会長旗!B38 -> 0 | D38: =石川県野球協会会長旗!D38 -> 0 | F38: =石川県野球協会会長旗!F38 -> 0 | O38: =石川県野球協会会長旗!O38 -> 0 | X38: =石川県野球協会会長旗!X38 -> 0
A39: =石川県野球協会会長旗!A39 -> 29 | D39: =石川県野球協会会長旗!D39 -> マネージャー | F39: =石川県野球協会会長旗!F39 -> 0 | O39: =石川県野球協会会長旗!O39 -> 0 | X39: =石川県野球協会会長旗!X39 -> 0
A40: =石川県野球協会会長旗!A40 -> 30 | D40: =石川県野球協会会長旗!D40 -> スコアラー | F40: =石川県野球協会会長旗!F40 -> 0 | O40: =石川県野球協会会長旗!O40 -> 0 | X40: =石川県野球協会会長旗!X40 -> 0
A41: 31 | D41: =石川県野球協会会長旗!D41 -> トレーナー | F41: =石川県野球協会会長旗!F41 -> 0 | O41: =石川県野球協会会長旗!O41 -> 0 | X41: =石川県野球協会会長旗!X41 -> 0
